BEGIN:VCALENDAR
VERSION:2.0
PRODID:-//ChamberMaster//Event Calendar 2.0//EN
METHOD:PUBLISH
X-PUBLISHED-TTL:P3D
REFRESH-INTERVAL:P3D
CALSCALE:GREGORIAN
BEGIN:VEVENT
DTSTART:20170928T143000Z
DTEND:20170928T160000Z
X-MICROSOFT-CDO-ALLDAYEVENT:FALSE
SUMMARY:Monthly Speaker Series - Cindi Johnston\, Heartland Payment Systems
DESCRIPTION:Join us for our monthly speaker series! Do you know the difference between professional payment gateway systems? When should you use Square and when should you not? Cindi Johnson from Heartland Payment Systems will explain the ins and outs of how to save money (and maintain security) with those who pay you!\n\n\n\nAttracting local business owners\, corporate representatives\, community leaders and government officials\, the Chamber's monthly Membership Meetings feature distinguished speakers addressing a variety of topics relevant to business and the community. The meetings are attended by professionals from all types of businesses and is focused on truly successful networking. Meet\, mix\, and mingle in the morning.
X-ALT-DESC;FMTTYPE=text/html:Join us for our monthly speaker series! Do you know the difference between professional payment gateway systems? When should you use Square and when should you not? Cindi Johnson from Heartland Payment Systems will explain the ins and outs of how to save money (and maintain security) with those who pay you!<br />\n<br />\nAttracting local business owners\, corporate representatives\, community leaders and government officials\, the Chamber&rsquo\;s monthly Membership Meetings feature distinguished speakers addressing a variety of topics relevant to business and the community. The meetings are attended by professionals from all types of businesses and is focused on truly successful networking. Meet\, mix\, and mingle in the morning.
LOCATION:Fairwinds - Brighton Court 6520 196th St SW Lynnwood\, WA 98036
UID:e.3041.8
SEQUENCE:3
DTSTAMP:20260425T105751Z
URL:https://business.lynnwoodchamber.org/events/details/monthly-speaker-series-cindi-johnston-heartland-payment-systems-8
END:VEVENT

END:VCALENDAR
