BEGIN:VCALENDAR
VERSION:2.0
PRODID:-//ChamberMaster//Event Calendar 2.0//EN
METHOD:PUBLISH
X-PUBLISHED-TTL:P3D
REFRESH-INTERVAL:P3D
CALSCALE:GREGORIAN
BEGIN:VEVENT
DTSTART:20171116T153000Z
DTEND:20171116T170000Z
X-MICROSOFT-CDO-ALLDAYEVENT:FALSE
SUMMARY:Monthly Speaker Series Breakfast Meeting - Arden Clise\, President of Clise Etiquette
DESCRIPTION:Spinach in Your Client's Teeth and Other Holiday\n\nEtiquette Dilemmas\n\n\n\nThe holidays are coming and that means company holiday parties\, formal dinners and client festivities. If that makes you nervous\, you're not alone. Holiday parties are part of our professional and personal lives\, yet most people struggle with them. If you have ever wondered how to start a conversation with a stranger\, which bread plate to use on a busy dining table or how to carry a plate of food and a drink while mingling\, this presentation is for you.\n\n\n\nArden Clise\, President of Clise Etiquette\, is an expert in the field of business etiquette and customer service. As an author\, speaker\, trainer and coach\, Arden helps professionals confidently and professionally navigate business situations.\n\n\n\nAuthor of Spinach in Your Boss's Teeth: Essential Etiquette for Professional Success\, Arden also writes a regular business etiquette advice column for 425 Magazine. She has been quoted in several national and international publications including Real Simple magazine\, the Wall Street Journal and China Daily USA.
X-ALT-DESC;FMTTYPE=text/html:Spinach in Your Client&rsquo\;s Teeth and Other Holiday<br />\nEtiquette Dilemmas<br />\n<br />\nThe holidays are coming and that means company holiday parties\, formal dinners and client festivities. If that makes you nervous\, you&rsquo\;re not alone. Holiday parties are part of our professional and personal lives\, yet most people struggle with them. If you have ever wondered how to start a conversation with a stranger\, which bread plate to use on a busy dining table or how to carry a plate of food and a drink while mingling\, this presentation is for you.<br />\n<br />\nArden Clise\, President of Clise Etiquette\, is an expert in the field of business etiquette and customer service. As an author\, speaker\, trainer and coach\, Arden helps professionals confidently and professionally navigate business situations.<br />\n<br />\nAuthor of Spinach in Your Boss&rsquo\;s Teeth: Essential Etiquette for Professional Success\, Arden also writes a regular business etiquette advice column for 425 Magazine. She has been quoted in several national and international publications including Real Simple magazine\, the Wall Street Journal and China Daily USA.\n<div class="mn-listing-sidebar" style="box-sizing: content-box\; bottom: auto\; clear: none\; color: rgb(68\, 68\, 68)\; content: normal\; direction: inherit\; empty-cells: show\; float: right\; font-variant-numeric: inherit\; font-stretch: inherit\; font-size: 14px\; font-family: Arial\, Helvetica\, sans-serif\; left: auto\; line-height: inherit\; margin: 0px\; max-height: none\; max-width: none\; min-height: initial\; min-width: 150px\; opacity: 1\; outline-offset: 0px\; overflow: visible\; padding: 0px\; position: static\; resize: none\; right: auto\; table-layout: auto\; text-overflow: clip\; top: auto\; vertical-align: baseline\; visibility: inherit\; word-break: inherit\; word-wrap: inherit\; z-index: auto\; background-image: none\; background-position: initial\; background-size: initial\; background-repeat: initial\; background-attachment: initial\; background-origin: initial\; background-clip: initial\; border: none\; border-collapse: separate\; border-radius: 0px\; height: auto\; width: 387.797px\; box-shadow: none\;">\n<div class="mn-actions mn-action-back" style="box-sizing: content-box\; bottom: auto\; clear: none\; color: inherit\; content: normal\; direction: inherit\; empty-cells: show\; float: right\; font-style: inherit\; font-variant: inherit\; font-weight: inherit\; font-stretch: inherit\; font-size: inherit\; font-family: inherit\; left: auto\; letter-spacing: inherit\; line-height: inherit\; margin: 0px 0px 5px\; max-height: none\; max-width: none\; min-height: initial\; min-width: initial\; opacity: 1\; outline-offset: 0px\; overflow: visible\; padding: 0px\; position: static\; resize: none\; right: auto\; table-layout: auto\; text-align: inherit\; text-indent: inherit\; text-overflow: clip\; text-transform: inherit\; top: auto\; vertical-align: baseline\; visibility: inherit\; white-space: inherit\; word-break: inherit\; word-spacing: inherit\; word-wrap: inherit\; z-index: auto\; background: none\; border: none\; border-collapse: separate\; border-radius: 0px\; height: auto\; width: 387.797px\; box-shadow: none\;">&nbsp\;</div>\n</div>\n
LOCATION:Fairwinds - Brighton Court 6520 196th St SW Lynnwood\, WA 98036
UID:e.3041.10
SEQUENCE:3
DTSTAMP:20260423T194053Z
URL:https://business.lynnwoodchamber.org/events/details/monthly-speaker-series-breakfast-meeting-arden-clise-president-of-clise-etiquette-10
END:VEVENT

END:VCALENDAR
