BEGIN:VCALENDAR
VERSION:2.0
PRODID:-//ChamberMaster//Event Calendar 2.0//EN
METHOD:PUBLISH
X-PUBLISHED-TTL:P3D
REFRESH-INTERVAL:P3D
CALSCALE:GREGORIAN
BEGIN:VEVENT
DTSTART:20170824T143000Z
DTEND:20170824T160000Z
X-MICROSOFT-CDO-ALLDAYEVENT:FALSE
SUMMARY:Monthly Speaker Series
DESCRIPTION:Are you stuck in your business because you are working from home\, meeting clients at Starbucks\, or struggling with isolation? Community and coworking is the solution!\n\n\n\nTracey Warren is a community creator who wants to see you succeed in business. She will discuss her approach and strategy at our monthly meeting.
X-ALT-DESC;FMTTYPE=text/html:Are you stuck in your business because you are working from home\, meeting clients at Starbucks\, or struggling with isolation? Community and coworking is the solution!<br>\n<br>\nTracey Warren is a community creator who wants to see you succeed in business. She will discuss her approach and strategy at our monthly meeting.<br>\n<br>\n&nbsp\;
LOCATION:Fairwinds - Brighton Court 6520 196th St SW Lynnwood\, WA 98036
UID:e.3041.7
SEQUENCE:3
DTSTAMP:20260425T111935Z
URL:https://business.lynnwoodchamber.org/events/details/monthly-speaker-series-7
END:VEVENT

END:VCALENDAR
