BEGIN:VCALENDAR
VERSION:2.0
PRODID:-//ChamberMaster//Event Calendar 2.0//EN
METHOD:PUBLISH
X-PUBLISHED-TTL:P3D
REFRESH-INTERVAL:P3D
CALSCALE:GREGORIAN
BEGIN:VEVENT
DTSTART:20170727T143000Z
DTEND:20170727T160000Z
X-MICROSOFT-CDO-ALLDAYEVENT:FALSE
SUMMARY:Monthly Speaker Series
DESCRIPTION:This month's speaker is Mark Howley! Mark speaks domestically and internationally combining humor and practical advice on business ownership\, finding our passion\, and life balance. Interested in scheduling an event? Check out his website: http://www.mvhspeaking.com/\n\n\n\nAttracting local business owners\, corporate representatives\, community leaders and government officials\, the Chamber's monthly Membership Meetings feature distinguished speakers addressing a variety of topics relevant to business and the community. The meetings are attended by professionals from all types of businesses and is focused on truly successful networking. Meet\, mix\, and mingle in the morning.
X-ALT-DESC;FMTTYPE=text/html:This month&#39\;s speaker is <a href="https://www.linkedin.com/in/mark-howley-80b2903/" target="_blank">Mark Howley</a>! Mark speaks domestically and internationally combining humor and practical advice on business ownership\, finding our passion\, and life balance. Interested in scheduling an event? Check out his website: http://www.mvhspeaking.com/<br />\n<br />\nAttracting local business owners\, corporate representatives\, community leaders and government officials\, the Chamber&rsquo\;s monthly Membership Meetings feature distinguished speakers addressing a variety of topics relevant to business and the community. The meetings are attended by professionals from all types of businesses and is focused on truly successful networking. Meet\, mix\, and mingle in the morning.
LOCATION:Fairwinds - Brighton Court 6520 196th St SW Lynnwood\, WA 98036
UID:e.3041.5
SEQUENCE:3
DTSTAMP:20260425T125110Z
URL:https://business.lynnwoodchamber.org/events/details/monthly-speaker-series-5
END:VEVENT

END:VCALENDAR
