BEGIN:VCALENDAR
VERSION:2.0
PRODID:-//ChamberMaster//Event Calendar 2.0//EN
METHOD:PUBLISH
X-PUBLISHED-TTL:P3D
REFRESH-INTERVAL:P3D
CALSCALE:GREGORIAN
BEGIN:VEVENT
DTSTART:20181025T013000Z
DTEND:20181025T030000Z
X-MICROSOFT-CDO-ALLDAYEVENT:FALSE
SUMMARY:Meet the NEW Celebrity EDGE - Presentation by Celebrity Cruises
DESCRIPTION:Introducing a revolutionary new ship that's poised to change the way guests experience the world. With its visionary design\, it will raise the bar on cruise vacations to even greater heights.\n\n\n\nFor one night only\, Expedia  CruiseShipCenters  and Celebrity Cruises will introduce you to Celebrity Edge\, the first in Celebrity Cruises' new class of ships designed to leave the future behind. Celebrity EDGE will be one of the most innovative & luxurious cruise ships ever built in history! From the incredible new Magic Carpet to the private plunge pools in the Edge Villas\, Celebrity has designed the most refined ship at sea. Come down and learn how you can access our Celebrity Cruises offers that include bonus Expedia  Extras* in addition to free drinks\, onboard spending cash\, WiFi\, or more by booking at this event! Doors open at 6:30 pm.\n\n\n\nWe have limited seating for this exclusive one-day booking event\, so RSVP now\, and grab your complimentary seats. You will enjoy:*\n\n	Access to booking offers ONLY available at this night's event\n	Learning about the incredible value onboard Celebrity Cruises while enjoying light refreshments\n	Gaining professional planning advice from experienced Expedia CruiseShipCenters Vacation Consultants\n	All your Celebrity Cruise Lines and Celebrity Edge questions answered
X-ALT-DESC;FMTTYPE=text/html:<span style="padding-top:0px\;">Introducing a revolutionary new ship that&rsquo\;s poised to change the way guests experience the world. With its visionary design\, it will raise the bar on cruise vacations to even greater heights.</span><br />\n<br />\n<span style="padding-top:0px\;">For one night only\, Expedia&reg\; CruiseShipCenters&reg\; and Celebrity Cruises will introduce you to Celebrity Edge\, the first in Celebrity Cruises&rsquo\; new class of ships designed to leave the future behind. Celebrity EDGE will be one of the most innovative &amp\; luxurious cruise ships ever built in history! From the incredible new Magic Carpet to the private plunge pools in the Edge Villas\, Celebrity has designed the most refined ship at sea. Come down and learn how you can access our&nbsp\;<em style="padding-top:0px\;">Celebrity Cruises offers</em>&nbsp\;that include bonus Expedia&reg\; Extras* in addition to free drinks\, onboard spending cash\, WiFi\, or more by booking at this event! Doors open at 6:30 pm.</span><br />\n<br />\n<span style="padding-top:0px\;">We have limited seating for this exclusive one-day booking event\, so RSVP now\, and grab your complimentary seats. You will enjoy:*</span>\n<ul>\n	<li style="padding:0px\;"><span style="padding-top:0px\;">Access to booking offers ONLY available at this night&#39\;s event</span></li>\n	<li style="padding:5px 0px 0px\;"><span style="padding-top:0px\;">Learning about the incredible value onboard Celebrity Cruises while enjoying light refreshments</span></li>\n	<li style="padding:5px 0px 0px\;"><span style="padding-top:0px\;">Gaining professional planning advice from experienced Expedia CruiseShipCenters Vacation Consultants</span></li>\n	<li style="padding:5px 0px 0px\;"><span style="padding-top:0px\;">All your Celebrity Cruise Lines and Celebrity Edge questions answered</span></li>\n</ul>\n
LOCATION:Expedia CruiseShipCenters Mill Creek 15415 Main Street\, Suite 104 Mill Creek\, WA 98012
UID:e.3041.685
SEQUENCE:3
DTSTAMP:20260423T024558Z
URL:https://business.lynnwoodchamber.org/events/details/meet-the-new-celebrity-edge-presentation-by-celebrity-cruises-685
END:VEVENT

END:VCALENDAR
