BEGIN:VCALENDAR
VERSION:2.0
PRODID:-//ChamberMaster//Event Calendar 2.0//EN
METHOD:PUBLISH
X-PUBLISHED-TTL:P3D
REFRESH-INTERVAL:P3D
CALSCALE:GREGORIAN
BEGIN:VEVENT
DTSTART:20180418T143000Z
DTEND:20180418T160000Z
X-MICROSOFT-CDO-ALLDAYEVENT:FALSE
SUMMARY:Lynnwood’s Path Forward: Achieving Our Community Vision
DESCRIPTION:Lynnwood's Path Forward:  Achieving Our Community Vision\n\nPresented by David Kleitsch\, Director\, Office of Economic Development
X-ALT-DESC;FMTTYPE=text/html:<span style="color: rgb(34\, 34\, 34)\; font-family: arial\, sans-serif\; font-size: 12.8px\;">Lynnwood&rsquo\;s Path Forward:&nbsp\; Achieving Our Community Vision<br />\nPresented by David Kleitsch\, Director\, Office of Economic Development</span>
LOCATION:First Interstate Bank 2502 196th St SW\, Suite 110 Lynnwood\, WA 98036
UID:e.3041.204
SEQUENCE:3
DTSTAMP:20260423T093656Z
URL:https://business.lynnwoodchamber.org/events/details/lynnwood-s-path-forward-achieving-our-community-vision-204
END:VEVENT

END:VCALENDAR
