BEGIN:VCALENDAR
VERSION:2.0
PRODID:-//ChamberMaster//Event Calendar 2.0//EN
METHOD:PUBLISH
X-PUBLISHED-TTL:P3D
REFRESH-INTERVAL:P3D
CALSCALE:GREGORIAN
BEGIN:VEVENT
DTSTART;VALUE=DATE:20210515
DTEND;VALUE=DATE:20210517
TRANSP:TRANSPARENT
X-MICROSOFT-CDO-ALLDAYEVENT:TRUE
SUMMARY:Lynnwood Police K-9 Unit Fundraiser at Mr. Kleen
DESCRIPTION:Mr. Kleen 76 Stations are holding a Car Wash Fund raiser for the Lynnwood Police K-9 Unit this weekend at both Mr. Kleen 76 stations in Lynnwood. One of Lynnwood's police officers and his K-9 partner will be visiting the stations throughout the weekend. A great opportunity to talk with an officer and learn about the over 400 hours of training he and his dog have undergone. Free coffee at the Alderwood Station and K-9 puppy toys will be available for a $15 donation.
X-ALT-DESC;FMTTYPE=text/html:<span style="font-size:12px\;"><span style="color:black\;"><span style="font-family:helvetica\,sans-serif\;">Mr. Kleen 76 Stations are holding a Car Wash Fund raiser for the Lynnwood Police K-9 Unit this weekend at both Mr. Kleen 76 stations in Lynnwood. One of Lynnwood&rsquo\;s police officers and his K-9 partner will be visiting the stations throughout the weekend. A great opportunity to talk with an officer and learn about the over 400 hours of training he and his dog have undergone. Free coffee at the Alderwood Station and K-9 puppy toys will be available for a $15 donation.</span></span><br />\n&nbsp\;</span>
LOCATION:Mr. Kleen 76 Stations\, 19611 Alderwood Mall Pkwy & 19907 44th Av W\, Lynnwood\, WA 98036
UID:e.3041.977
SEQUENCE:3
DTSTAMP:20260421T085622Z
URL:https://business.lynnwoodchamber.org/events/details/lynnwood-police-k-9-unit-fundraiser-at-mr-kleen-977
END:VEVENT

END:VCALENDAR
