BEGIN:VCALENDAR
VERSION:2.0
PRODID:-//ChamberMaster//Event Calendar 2.0//EN
METHOD:PUBLISH
X-PUBLISHED-TTL:P3D
REFRESH-INTERVAL:P3D
CALSCALE:GREGORIAN
BEGIN:VEVENT
DTSTART:20190918T210000Z
DTEND:20190919T000000Z
X-MICROSOFT-CDO-ALLDAYEVENT:FALSE
SUMMARY:Lynnwood Convention Center Hiring Event
DESCRIPTION:Lynnwood Convention Center Hiring Event
X-ALT-DESC;FMTTYPE=text/html:Lynnwood Convention Center Hiring Event<br />\n&nbsp\;
LOCATION:Lynnwood Convention Center 3711 196th St. SW Lynnwood
UID:e.3041.891
SEQUENCE:3
DTSTAMP:20260422T104111Z
URL:https://business.lynnwoodchamber.org/events/details/lynnwood-convention-center-hiring-event-891
END:VEVENT

END:VCALENDAR
