BEGIN:VCALENDAR
VERSION:2.0
PRODID:-//ChamberMaster//Event Calendar 2.0//EN
METHOD:PUBLISH
X-PUBLISHED-TTL:P3D
REFRESH-INTERVAL:P3D
CALSCALE:GREGORIAN
BEGIN:VEVENT
DTSTART:20190912T010000Z
DTEND:20190912T030000Z
X-MICROSOFT-CDO-ALLDAYEVENT:FALSE
SUMMARY:Lynnwood Convention Center Artists' Reception
DESCRIPTION:Lynnwood Convention Center Artists' Reception\n\nA great opportunity to visit the current exhibit\, Northwest Stories / Northwest Life\, and meet the featured artists. Appetizers made in-house from scratch by the Convention Center's culinary team led by Chef Michael Felsenstein provided.
X-ALT-DESC;FMTTYPE=text/html:Lynnwood Convention Center Artists&#39\; Reception<br />\nA great opportunity to visit the current exhibit\, Northwest Stories / Northwest Life\, and meet the featured artists. Appetizers made in-house from scratch by the Convention Center&#39\;s culinary team led by Chef Michael Felsenstein provided.
LOCATION:Lynnwood Convention Center 3711 196th St. SW Lynnwood\, WA 98036
UID:e.3041.887
SEQUENCE:3
DTSTAMP:20260422T103650Z
URL:https://business.lynnwoodchamber.org/events/details/lynnwood-convention-center-artists-reception-887
END:VEVENT

END:VCALENDAR
