BEGIN:VCALENDAR
VERSION:2.0
PRODID:-//ChamberMaster//Event Calendar 2.0//EN
METHOD:PUBLISH
X-PUBLISHED-TTL:P3D
REFRESH-INTERVAL:P3D
CALSCALE:GREGORIAN
BEGIN:VEVENT
DTSTART:20190711T013000Z
DTEND:20190711T040000Z
X-MICROSOFT-CDO-ALLDAYEVENT:FALSE
SUMMARY:Lynnwood City Council Primary Election Candidate Forum
DESCRIPTION:Lynnwood Today and the Lynnwood Chamber of Commerce present\n\n2019 Lynnwood City Council Primary Candidate Forum
X-ALT-DESC;FMTTYPE=text/html:Lynnwood Today and the Lynnwood Chamber of Commerce present<br />\n2019 Lynnwood City Council Primary Candidate Forum
LOCATION:Community Life Center 19820 Scriber Lake Rd Lynnwood
UID:e.3041.862
SEQUENCE:3
DTSTAMP:20260422T132038Z
URL:https://business.lynnwoodchamber.org/events/details/lynnwood-city-council-primary-election-candidate-forum-862
END:VEVENT

END:VCALENDAR
