BEGIN:VCALENDAR
VERSION:2.0
PRODID:-//ChamberMaster//Event Calendar 2.0//EN
METHOD:PUBLISH
X-PUBLISHED-TTL:P3D
REFRESH-INTERVAL:P3D
CALSCALE:GREGORIAN
BEGIN:VEVENT
DTSTART:20180919T183000Z
DTEND:20180919T200000Z
X-MICROSOFT-CDO-ALLDAYEVENT:FALSE
SUMMARY:Lynnwood Chamber September Luncheon
DESCRIPTION:Andy O'Shea\n\nLeadership and Productivity\n\nAndy O'Shea is an engaging\, entertaining and enlightening speaker\, who loves to challenge people to create their spectacular life. He brings over 25 years of experience in leadership roles as well as many years as a business coach\, trainer\, mentor and speaker.
X-ALT-DESC;FMTTYPE=text/html:<div style="color: rgb(34\, 34\, 34)\; font-family: arial\, sans-serif\; font-size: 12.8px\;"><b>Andy O&#39\;Shea<br />\nLeadership and Productivity</b><br />\nAndy O&#39\;Shea is an engaging\, entertaining and enlightening speaker\, who loves to challenge people to create their <em>spectacular</em> life. He brings over 25 years of experience in leadership roles as well as many years as a business coach\, trainer\, mentor and speaker.&nbsp\;</div>\n
LOCATION:Lynnwood Convention Center 3711 196th St. SW Lynnwood\, WA 98036
UID:e.3041.669
SEQUENCE:3
DTSTAMP:20260423T025105Z
URL:https://business.lynnwoodchamber.org/events/details/lynnwood-chamber-september-luncheon-669
END:VEVENT

END:VCALENDAR
