BEGIN:VCALENDAR
VERSION:2.0
PRODID:-//ChamberMaster//Event Calendar 2.0//EN
METHOD:PUBLISH
X-PUBLISHED-TTL:P3D
REFRESH-INTERVAL:P3D
CALSCALE:GREGORIAN
BEGIN:VEVENT
DTSTART:20180927T143000Z
DTEND:20180927T160000Z
X-MICROSOFT-CDO-ALLDAYEVENT:FALSE
SUMMARY:Lynnwood Chamber September Breakfast
DESCRIPTION:Our speaker this month is Bruce Caldwell of Cascade Symphony Orchestra.\n\nNetworking\, education\, community involvement and more!
X-ALT-DESC;FMTTYPE=text/html:<font face="arial"><span style="font-size: 13.3333px\;">Our speaker this month is Bruce Caldwell of Cascade Symphony Orchestra.<br />\nNetworking\, education\, community involvement and more!</span></font>
LOCATION:Fairwinds - Brighton Court 6520 196th St SW Lynnwood\, WA 98036
UID:e.3041.670
SEQUENCE:3
DTSTAMP:20260423T040208Z
URL:https://business.lynnwoodchamber.org/events/details/lynnwood-chamber-september-breakfast-670
END:VEVENT

END:VCALENDAR
