BEGIN:VCALENDAR
VERSION:2.0
PRODID:-//ChamberMaster//Event Calendar 2.0//EN
METHOD:PUBLISH
X-PUBLISHED-TTL:P3D
REFRESH-INTERVAL:P3D
CALSCALE:GREGORIAN
BEGIN:VEVENT
DTSTART:20181017T183000Z
DTEND:20181017T200000Z
X-MICROSOFT-CDO-ALLDAYEVENT:FALSE
SUMMARY:Lynnwood Chamber October Luncheon
DESCRIPTION:SOLD OUT\n\nDr. Coyte Cooper and Ken Hubbard!\n\nRegister early to hear Dr. Coyte Cooper with leadership expert Ken Hubbard at the October Chamber Luncheon. This will be the water cooler talk the next morning.
X-ALT-DESC;FMTTYPE=text/html:<div style="color: rgb(34\, 34\, 34)\; font-family: arial\, sans-serif\; font-size: 12.8px\;"><b>SOLD OUT<br />\nDr. Coyte Cooper and Ken Hubbard!</b><br />\n<strong style="color: rgb(64\, 64\, 64)\; font-family: Helvetica\; font-size: 16px\; text-align: center\; background-color: rgb(253\, 253\, 253)\;"><span style="font-size: 12px\;">Register early to hear Dr. Coyte Cooper</span></strong><span style="font-family: Helvetica\; text-align: center\; background-color: rgb(253\, 253\, 253)\; font-size: 12px\;"><span style="color:#000000\;">&nbsp\;</span></span><strong style="color: rgb(64\, 64\, 64)\; font-family: Helvetica\; font-size: 16px\; text-align: center\; background-color: rgb(253\, 253\, 253)\;"><span style="font-size: 12px\;">with leadership expert Ken Hubbard at the October Chamber Luncheon. This will be the water cooler talk the next morning.</span></strong></div>\n
LOCATION:Lynnwood Convention Center 3711 196th St. SW Lynnwood\, WA 98036
UID:e.3041.675
SEQUENCE:3
DTSTAMP:20260423T011847Z
URL:https://business.lynnwoodchamber.org/events/details/lynnwood-chamber-october-luncheon-675
END:VEVENT

END:VCALENDAR
