BEGIN:VCALENDAR
VERSION:2.0
PRODID:-//ChamberMaster//Event Calendar 2.0//EN
METHOD:PUBLISH
X-PUBLISHED-TTL:P3D
REFRESH-INTERVAL:P3D
CALSCALE:GREGORIAN
BEGIN:VEVENT
DTSTART:20181025T143000Z
DTEND:20181025T160000Z
X-MICROSOFT-CDO-ALLDAYEVENT:FALSE
SUMMARY:Lynnwood Chamber October Breakfast
DESCRIPTION:Winning Customers Through Content Marketing - What to write about and show in social media and routine communications\n\n~Beth Woolley\, bdub relations\n\nWhat goes in the guts of your newsletters\, posts and tweets? Beth makes it easy to plan your content strategy.\n\n\n	Understanding your brand community\n	Six actions that lead to customer and prospect engagement\n	Common barriers to achieving results\n	Tips for keeping your communications relevant\n\nLeave with a worksheet and summary of key "how-to" actions.\n\n\n\nComplimentary hot breakfast courtesy of Chef Dane Catering.\n\nBring a door prize to promote your business!\n\n\n\nWe have grown! Please note new location at Gateway Hall - Edmonds Community College. Located behind Monroe Hall\, with parking off 196th both in front of and behind the building. Meeting is on the 3rd floor. Many thanks to Fairwinds - Brighton Court for their years of support to the Chamber.
X-ALT-DESC;FMTTYPE=text/html:<p><strong>Winning Customers Through Content Marketing - <em>What to write about and show in social media and routine communications</em><br />\n~Beth Woolley\, bdub relations</strong><br />\nWhat goes in the guts of your newsletters\, posts and tweets? Beth makes it easy to plan your content strategy.</p>\n\n<ul>\n	<li>Understanding your brand community</li>\n	<li>Six actions that lead to customer and prospect engagement</li>\n	<li>Common barriers to achieving results</li>\n	<li>Tips for keeping your communications relevant</li>\n</ul>\nLeave with a worksheet and summary of key &ldquo\;how-to&rdquo\; actions.<br />\n<br />\nComplimentary hot breakfast courtesy of <strong><a href="http://chefdane.com"><span style="color:#000000\;">Chef Dane Catering</span></a></strong>.\n\n<p>Bring a door prize to promote your business!<br />\n<br />\n<em>We have grown! Please note new location at <strong><a href="http://www.edcc.edu/campus/buildings/gwy.html"><span style="color:#000000\;">Gateway Hall - Edmonds Community College.</span></a></strong> Located behind Monroe Hall\, with parking off 196th both in front of and behind the building. Meeting is on the 3rd floor. Many thanks to <strong><a href="https://www.leisurecare.com/our-communities/fairwinds-brighton-court"><span style="color:#000000\;">Fairwinds - Brighton Court </span></a></strong>for their years of support to the Chamber.</em></p>\n
LOCATION:Gateway Hall Board Room - Edmonds Community College 6600 196th St. SW Lynnwood\, WA 98036
UID:e.3041.676
SEQUENCE:3
DTSTAMP:20260423T011613Z
URL:https://business.lynnwoodchamber.org/events/details/lynnwood-chamber-october-breakfast-676
END:VEVENT

END:VCALENDAR
