BEGIN:VCALENDAR
VERSION:2.0
PRODID:-//ChamberMaster//Event Calendar 2.0//EN
METHOD:PUBLISH
X-PUBLISHED-TTL:P3D
REFRESH-INTERVAL:P3D
CALSCALE:GREGORIAN
BEGIN:VEVENT
DTSTART:20181114T193000Z
DTEND:20181114T210000Z
X-MICROSOFT-CDO-ALLDAYEVENT:FALSE
SUMMARY:Lynnwood Chamber November Luncheon
DESCRIPTION:The Lynnwood Police Department
X-ALT-DESC;FMTTYPE=text/html:<div style="color: rgb(34\, 34\, 34)\; font-family: arial\, sans-serif\; font-size: 12.8px\;">The Lynnwood Police Department</div>\n
LOCATION:Lynnwood Convention Center 3711 196th St. SW Lynnwood\, WA 98036
UID:e.3041.678
SEQUENCE:3
DTSTAMP:20260423T012016Z
URL:https://business.lynnwoodchamber.org/events/details/lynnwood-chamber-november-luncheon-678
END:VEVENT

END:VCALENDAR
