BEGIN:VCALENDAR
VERSION:2.0
PRODID:-//ChamberMaster//Event Calendar 2.0//EN
METHOD:PUBLISH
X-PUBLISHED-TTL:P3D
REFRESH-INTERVAL:P3D
CALSCALE:GREGORIAN
BEGIN:VEVENT
DTSTART:20181129T153000Z
DTEND:20181129T170000Z
X-MICROSOFT-CDO-ALLDAYEVENT:FALSE
SUMMARY:Lynnwood Chamber November Breakfast
DESCRIPTION:Jonathan Carriaga\, Macy's My Stylist\n\nUsher in the holidays looking and feeling great!\n\nComplimentary continental breakfast courtesy of Chef Dane Catering.\n\nBring a door prize to promote your business1
X-ALT-DESC;FMTTYPE=text/html:<font color="#000000" style="font-family: Helvetica\; font-size: 12px\; background-color: rgb(253\, 253\, 253)\;"><strong>Jonathan Carriaga\, Macy&#39\;s My Stylist</strong></font><br style="color: rgb(64\, 64\, 64)\; font-family: Helvetica\; font-size: 12px\; background-color: rgb(253\, 253\, 253)\;" />\n<strong style="color: rgb(64\, 64\, 64)\; font-family: Helvetica\; font-size: 12px\; background-color: rgb(253\, 253\, 253)\;">Usher in the holidays looking and feeling great!</strong><br />\nComplimentary continental breakfast courtesy of <strong><a href="http://chefdane.com"><span style="color:#000000\;">Chef Dane Catering</span></a></strong>.<br />\nBring a door prize to promote your business1
LOCATION:Gateway Hall Board Room - Edmonds Community College 6600 196th St. SW Lynnwood\, WA 98036
UID:e.3041.680
SEQUENCE:3
DTSTAMP:20260422T235116Z
URL:https://business.lynnwoodchamber.org/events/details/lynnwood-chamber-november-breakfast-680
END:VEVENT

END:VCALENDAR
