BEGIN:VCALENDAR
VERSION:2.0
PRODID:-//ChamberMaster//Event Calendar 2.0//EN
METHOD:PUBLISH
X-PUBLISHED-TTL:P3D
REFRESH-INTERVAL:P3D
CALSCALE:GREGORIAN
BEGIN:VEVENT
DTSTART:20180718T183000Z
DTEND:20180718T200000Z
X-MICROSOFT-CDO-ALLDAYEVENT:FALSE
SUMMARY:Lynnwood Chamber Luncheon July 2018
DESCRIPTION:Lisa Wellington\, Crime Prevention Specialist with the Lynnwood Police Department will be sharing ways to keep our businesses safe. This is a great opportunity to learn what we can do for our business and community as well as speak directly to a representative of the police department. Please register by Friday\, July 13.
X-ALT-DESC;FMTTYPE=text/html:Lisa Wellington\, Crime Prevention Specialist with the Lynnwood Police Department will be sharing ways to keep our businesses safe. This is a great opportunity to learn what we can do for our business and community as well as speak directly to a representative of the police department. Please register by Friday\, July 13.
LOCATION:Lynnwood Convention Center 3711 196th St. SW
UID:e.3041.386
SEQUENCE:3
DTSTAMP:20260423T053146Z
URL:https://business.lynnwoodchamber.org/events/details/lynnwood-chamber-luncheon-july-2018-386
END:VEVENT

END:VCALENDAR
