BEGIN:VCALENDAR
VERSION:2.0
PRODID:-//ChamberMaster//Event Calendar 2.0//EN
METHOD:PUBLISH
X-PUBLISHED-TTL:P3D
REFRESH-INTERVAL:P3D
CALSCALE:GREGORIAN
BEGIN:VEVENT
DTSTART:20180815T183000Z
DTEND:20180815T200000Z
X-MICROSOFT-CDO-ALLDAYEVENT:FALSE
SUMMARY:Lynnwood Chamber Luncheon August 2018
DESCRIPTION:Matt Cail\, Super Charge Marketing presents \n\nAn Online Checkup For Your Business\n\nLife moves pretty fast and the Internet even faster!  Attend this session to hear pointers on how to ensure that your online presence is working hard for your business.  We will cover websites\, online reviews\, search rankings and social media.  This will provide an around-the-internet snapshot of your business with key takeaways to improve it and put your best foot forward online!
X-ALT-DESC;FMTTYPE=text/html:<div style="color: rgb(34\, 34\, 34)\; font-family: arial\, sans-serif\; font-size: 12.8px\;"><b>Matt Cail\, Super Charge Marketing presents&nbsp\;<br />\n<em>An Online Checkup For Your Business</em></b></div>\n\n<div style="color: rgb(34\, 34\, 34)\; font-family: arial\, sans-serif\; font-size: 12.8px\;"><em>Life moves pretty fast and the Internet even faster!&nbsp\; Attend this session to hear pointers on how to ensure that your online presence is working hard for your business.&nbsp\; We will cover websites\, online reviews\, search rankings and social media.&nbsp\; This will provide an around-the-internet snapshot of your business with key takeaways to improve it and put your best foot forward online!</em>&nbsp\;&nbsp\;</div>\n
LOCATION:Lynnwood Convention Center 3711 196th St. SW Lynnwood\, WA 98036
UID:e.3041.404
SEQUENCE:3
DTSTAMP:20260423T052941Z
URL:https://business.lynnwoodchamber.org/events/details/lynnwood-chamber-luncheon-august-2018-404
END:VEVENT

END:VCALENDAR
