BEGIN:VCALENDAR
VERSION:2.0
PRODID:-//ChamberMaster//Event Calendar 2.0//EN
METHOD:PUBLISH
X-PUBLISHED-TTL:P3D
REFRESH-INTERVAL:P3D
CALSCALE:GREGORIAN
BEGIN:VEVENT
DTSTART:20180620T183000Z
DTEND:20180620T200000Z
X-MICROSOFT-CDO-ALLDAYEVENT:FALSE
SUMMARY:Lynnwood Chamber Luncheon
DESCRIPTION:Sparky Taft\n\n\n\nOur featured speaker is probably the most successful advertising and marketing executive on the West Coast. With over 40 years' experience in radio\, television and other appearances\, Sparky has seen how there have been major changes in how to reach target audiences/customers  so his creative ideas have been implemented with amazing results. One glowing testimony came when a business owner wrote that his business had tripled since engaging Sparky's   services.  Another said his had quadrupled!  The author of five books\, Sparky travels throughout the nation every week providing  hands-on service to his many clients. He will include a video of some of  his work. Bring your questions to get answers from an expert.
X-ALT-DESC;FMTTYPE=text/html:<font color="#1d2129" face="Helvetica\, Arial\, sans-serif"><span style="font-size: 14px\;"><b>Sparky Taft</b></span></font><br />\n<br />\n<span style="font-size:14px\;"><span style="color: rgb(0\, 0\, 0)\; font-family: Calibri\;">Our featured speaker </span><span style="color: rgb(0\, 0\, 0)\; font-family: Calibri\;">is probably the most successful advertising and marketing executive on the West Coast.</span><span style="color: rgb(0\, 0\, 0)\; font-family: Calibri\;">&nbsp\;</span><span style="color: rgb(0\, 0\, 0)\; font-family: Calibri\;">With over 40 years&rsquo\; experience in radio\, television and other appearances\, Sparky has seen how there have been major changes in how to reach target audiences/customers&nbsp\;</span><span style="color: rgb(0\, 0\, 0)\; font-family: Calibri\;">&nbsp\;</span><span style="color: rgb(0\, 0\, 0)\; font-family: Calibri\;">so his creative ideas have been implemented with amazing results. One glowing testimony came when a business owner wrote that his business had tripled since engaging Sparky&rsquo\;s&nbsp\;</span><span style="color: rgb(0\, 0\, 0)\; font-family: Calibri\;">&nbsp\;&nbsp\;</span><span style="color: rgb(0\, 0\, 0)\; font-family: Calibri\;">services.&nbsp\;</span><span style="color: rgb(0\, 0\, 0)\; font-family: Calibri\;">&nbsp\;</span><span style="color: rgb(0\, 0\, 0)\; font-family: Calibri\;">Another said his had quadrupled!&nbsp\;</span><span style="color: rgb(0\, 0\, 0)\; font-family: Calibri\;">&nbsp\;</span><span style="color: rgb(0\, 0\, 0)\; font-family: Calibri\;">The author of five books\, Sparky travels throughout the nation every week providing&nbsp\;</span><span style="color: rgb(0\, 0\, 0)\; font-family: Calibri\;">&nbsp\;</span><span style="color: rgb(0\, 0\, 0)\; font-family: Calibri\;">hands-on service to his many clients. He will include a video of some of</span><span style="color: rgb(0\, 0\, 0)\; font-family: Calibri\;">&nbsp\;&nbsp\;</span><span style="color: rgb(0\, 0\, 0)\; font-family: Calibri\;">his work. Bring your questions to get answers from an expert.</span></span>
LOCATION:Lynnwood Convention Center 3711 196th St. SW
UID:e.3041.245
SEQUENCE:3
DTSTAMP:20260423T080901Z
URL:https://business.lynnwoodchamber.org/events/details/lynnwood-chamber-luncheon-245
END:VEVENT

END:VCALENDAR
