BEGIN:VCALENDAR
VERSION:2.0
PRODID:-//ChamberMaster//Event Calendar 2.0//EN
METHOD:PUBLISH
X-PUBLISHED-TTL:P3D
REFRESH-INTERVAL:P3D
CALSCALE:GREGORIAN
BEGIN:VEVENT
DTSTART:20180516T183000Z
DTEND:20180516T200000Z
X-MICROSOFT-CDO-ALLDAYEVENT:FALSE
SUMMARY:Lynnwood Chamber Luncheon
DESCRIPTION:Headlines\, Economics\, Retail and Sleepless Nights: A story of perspectives" \n\nJames McCafferty\, Director\, Center for Economic and Business Research\, Western Washington University\n\nAn economist with a sense of humor\, you will enjoy this presentation!
X-ALT-DESC;FMTTYPE=text/html:<span style="color: rgb(29\, 33\, 41)\; font-family: Helvetica\, Arial\, sans-serif\; font-size: 14px\;"><strong>Headlines\, Economics\, Retail and Sleepless Nights: A story of perspectives&quot\;&nbsp\;</strong><br />\nJames McCafferty\, Director\, Center for Economic and Business Research\, Western Washington University<br />\n<em>An economist with a sense of humor\, you will enjoy this presentation!</em></span><br />\n&nbsp\;
LOCATION:Lynnwood Convention Center 3711 196th St. SW
UID:e.3041.212
SEQUENCE:3
DTSTAMP:20260423T093852Z
URL:https://business.lynnwoodchamber.org/events/details/lynnwood-chamber-luncheon-212
END:VEVENT

END:VCALENDAR
