BEGIN:VCALENDAR
VERSION:2.0
PRODID:-//ChamberMaster//Event Calendar 2.0//EN
METHOD:PUBLISH
X-PUBLISHED-TTL:P3D
REFRESH-INTERVAL:P3D
CALSCALE:GREGORIAN
BEGIN:VEVENT
DTSTART:20181219T193000Z
DTEND:20181219T210000Z
X-MICROSOFT-CDO-ALLDAYEVENT:FALSE
SUMMARY:Lynnwood Chamber December Luncheon
DESCRIPTION:The Lynnwood Chamber welcomes LAF Tech NW with Brian Trendler and Marcelle Allen\n\n"Find your Funny: Why using Humor is Good Business Sense"\nAt this powerful event you'll learn:\n\n* A key best practice from the LAF Tech curriculum\, "The Six Methods of Humor ".\n\n* Learn how to apply easy and surprisingly simple techniques to leave them laughing and wanting more.\n\n* Get a super-secret bonus enabling you to generate any speech\, anywhere\, in 5 min or less.\n\nTo learn more check out LAF Tech NW
X-ALT-DESC;FMTTYPE=text/html:<div style="color: rgb(34\, 34\, 34)\; font-family: arial\, sans-serif\; font-size: 12.8px\;"><span style="font-size:12px\;">The Lynnwood Chamber welcomes LAF Tech NW with Brian Trendler and Marcelle Allen<br />\n<b style="color: rgb(34\, 34\, 34)\; font-family: Arial\, Helvetica\, sans-serif\; font-size: small\;">&quot\;Find your Funny: Why using Humor is Good Business Sense&quot\;</b></span>\n<div style="color: rgb(34\, 34\, 34)\; font-family: Arial\, Helvetica\, sans-serif\; font-size: small\;"><span style="font-size:12px\;"><b>At this powerful event you&#39\;ll learn:</b></span></div>\n\n<div style="color: rgb(34\, 34\, 34)\; font-family: Arial\, Helvetica\, sans-serif\; font-size: small\;"><span style="font-size: 12px\;">* A key best practice from the&nbsp\;LAF Tech curriculum\, &quot\;The Six Methods of Humor&trade\;&quot\;.</span></div>\n\n<div style="color: rgb(34\, 34\, 34)\; font-family: Arial\, Helvetica\, sans-serif\; font-size: small\;"><span style="font-size: 12px\;">* Learn how to apply easy and surprisingly simple techniques to leave them laughing and wanting more.</span></div>\n\n<div style="color: rgb(34\, 34\, 34)\; font-family: Arial\, Helvetica\, sans-serif\; font-size: small\;"><span style="font-size: 12px\;">* Get a super-secret bonus enabling you to generate any speech\, anywhere\, in 5 min or less.</span></div>\n\n<div style="color: rgb(34\, 34\, 34)\; font-family: Arial\, Helvetica\, sans-serif\; font-size: small\;"><span style="font-size: 12px\;">To learn more check out <a href="http://www.laftechnw.com">LAF Tech NW</a></span></div>\n</div>\n
LOCATION:Lynnwood Convention Center 3711 196th St. SW Lynnwood\, WA 98036
UID:e.3041.679
SEQUENCE:3
DTSTAMP:20260422T222454Z
URL:https://business.lynnwoodchamber.org/events/details/lynnwood-chamber-december-luncheon-679
END:VEVENT

END:VCALENDAR
