BEGIN:VCALENDAR
VERSION:2.0
PRODID:-//ChamberMaster//Event Calendar 2.0//EN
METHOD:PUBLISH
X-PUBLISHED-TTL:P3D
REFRESH-INTERVAL:P3D
CALSCALE:GREGORIAN
BEGIN:VEVENT
DTSTART:20180823T143000Z
DTEND:20180823T160000Z
X-MICROSOFT-CDO-ALLDAYEVENT:FALSE
SUMMARY:Lynnwood Chamber Breakfast
DESCRIPTION:Sarah Olson\, Deputy Director of Lynnwood Parks\, Recreation and Cultural Arts Department will give us an update on the City Center Parks Master Plan. Come see the beautiful look coming to Lynnwood!
X-ALT-DESC;FMTTYPE=text/html:<span style="font-family:arial\;"><span style="font-size:10pt\;">Sarah Olson\, Deputy Director of Lynnwood Parks\, Recreation and Cultural Arts Department will give us an update on the City Center Parks Master Plan. Come see the beautiful look coming to Lynnwood!</span></span>
LOCATION:Fairwinds - Brighton Court 6520 196th St SW Lynnwood\, WA 98036
UID:e.3041.393
SEQUENCE:3
DTSTAMP:20260423T040814Z
URL:https://business.lynnwoodchamber.org/events/details/lynnwood-chamber-breakfast-393
END:VEVENT

END:VCALENDAR
