BEGIN:VCALENDAR
VERSION:2.0
PRODID:-//ChamberMaster//Event Calendar 2.0//EN
METHOD:PUBLISH
X-PUBLISHED-TTL:P3D
REFRESH-INTERVAL:P3D
CALSCALE:GREGORIAN
BEGIN:VEVENT
DTSTART:20180524T143000Z
DTEND:20180524T160000Z
X-MICROSOFT-CDO-ALLDAYEVENT:FALSE
SUMMARY:Lynnwood Chamber Breakfast
DESCRIPTION:Our program will be presented by Peter Harvey\, Financial Advisor at Wells Fargo Advisors. The topic will be Elder Abuse.\n\nComplimentary continental breakfast\, full breakfast available for purchase. Bring a door prize to promote your business. Please park one lot west at Monroe Hall.
X-ALT-DESC;FMTTYPE=text/html:Our program will be presented by Peter Harvey\, Financial Advisor at Wells Fargo Advisors. The topic will be Elder Abuse.<br />\nComplimentary continental breakfast\, full breakfast available for purchase. Bring a door prize to promote your business. Please park one lot west at Monroe Hall.
LOCATION:Fairwinds - Brighton Court 6520 196th St SW Lynnwood\, WA 98036
UID:e.3041.244
SEQUENCE:3
DTSTAMP:20260423T081150Z
URL:https://business.lynnwoodchamber.org/events/details/lynnwood-chamber-breakfast-244
END:VEVENT

END:VCALENDAR
