BEGIN:VCALENDAR
VERSION:2.0
PRODID:-//ChamberMaster//Event Calendar 2.0//EN
METHOD:PUBLISH
X-PUBLISHED-TTL:P3D
REFRESH-INTERVAL:P3D
CALSCALE:GREGORIAN
BEGIN:VEVENT
DTSTART:20220224T160000Z
DTEND:20220224T170000Z
X-MICROSOFT-CDO-ALLDAYEVENT:FALSE
SUMMARY:Lynnwood Chamber Breakfast
DESCRIPTION:Join us as we make new connections\, build relationships and get to know our community.
X-ALT-DESC;FMTTYPE=text/html:Join us as we make new connections\, build relationships and get to know our community.&nbsp\;
LOCATION:
UID:e.3041.1026
SEQUENCE:3
DTSTAMP:20260420T182342Z
URL:https://business.lynnwoodchamber.org/events/details/lynnwood-chamber-breakfast-1026
END:VEVENT

END:VCALENDAR
