BEGIN:VCALENDAR
VERSION:2.0
PRODID:-//ChamberMaster//Event Calendar 2.0//EN
METHOD:PUBLISH
X-PUBLISHED-TTL:P3D
REFRESH-INTERVAL:P3D
CALSCALE:GREGORIAN
BEGIN:VEVENT
DTSTART:20190611T183000Z
DTEND:20190611T200000Z
X-MICROSOFT-CDO-ALLDAYEVENT:FALSE
SUMMARY:Lunch with the Lynnwood Chamber
DESCRIPTION:Time Saving Health Hacks for the Modern Worker\n\nP.J. Glassey\, Founder\, XGyms\n\nLearn the antidote to our modern sedentary life/work society with time-saving techniques. Posture\, eyesight\, avoiding excessive sitting\, brain boosters and more. You will feel great after this presentation\, don't miss it!\n\n\n\nBring plenty of business cards for some excellent networking and a door prize for some added promotion.
X-ALT-DESC;FMTTYPE=text/html:<font face="arial"><span style="font-size: 14px\;"><strong>Time Saving Health Hacks for the Modern Worker<br />\nP.J. Glassey\, Founder\, XGyms</strong><br />\nLearn the antidote to our modern sedentary life/work society with time-saving techniques. Posture\, eyesight\, avoiding excessive sitting\, brain boosters and more. You will feel great after this presentation\, don&#39\;t miss it!<br />\n<br />\nBring plenty of business cards for some excellent networking and a door prize for some added promotion.</span></font><br />\n&nbsp\;
LOCATION:Lynnwood Convention Center 3711 196th St. SW Lynnwood\, WA 98036
UID:e.3041.714
SEQUENCE:3
DTSTAMP:20260422T143013Z
URL:https://business.lynnwoodchamber.org/events/details/lunch-with-the-lynnwood-chamber-714
END:VEVENT

END:VCALENDAR
