BEGIN:VCALENDAR
VERSION:2.0
PRODID:-//ChamberMaster//Event Calendar 2.0//EN
METHOD:PUBLISH
X-PUBLISHED-TTL:P3D
REFRESH-INTERVAL:P3D
CALSCALE:GREGORIAN
BEGIN:VEVENT
DTSTART:20190410T183000Z
DTEND:20190410T200000Z
X-MICROSOFT-CDO-ALLDAYEVENT:FALSE
SUMMARY:Lunch with the Lynnwood Chamber
DESCRIPTION:Marty Rood\n\nPresident and Designated Broker-Mr. 99 & Associates Commercial Real Estate Company\n\nHwy 99 - Past\, Present and Future\n\nNo one knows the story of Hwy 99 better than Marty Rood. We are pleased to welcome Mr. Rood to our luncheon\, and hear the stories of not only the beginnings of the largest commercial corridor in Lynnwood\, but where the future will lead as well. We're looking forward to a great presentation including some pictures you many not have seen in a long time!
X-ALT-DESC;FMTTYPE=text/html:<span style="font-size:14px\;"><strong>Marty Rood</strong><br />\n<strong>President and Designated Broker-Mr. 99 &amp\; Associates Commercial Real Estate Company</strong></span><br />\n<span style="font-size:14px\;"><strong><em>Hwy 99 - Past\, Present and Future</em></strong></span><br />\nNo one knows the story of Hwy 99 better than Marty Rood. We are pleased to welcome Mr. Rood to our luncheon\, and hear the stories of not only the beginnings of the largest commercial corridor in Lynnwood\, but where the future will lead as well. We&#39\;re looking forward to a great presentation including some pictures you many not have seen in a long time!
LOCATION:Lynnwood Convention Center 3711 196th St. SW Lynnwood\, WA 98036
UID:e.3041.712
SEQUENCE:3
DTSTAMP:20260422T165730Z
URL:https://business.lynnwoodchamber.org/events/details/lunch-with-the-lynnwood-chamber-712
END:VEVENT

END:VCALENDAR
