BEGIN:VCALENDAR
VERSION:2.0
PRODID:-//ChamberMaster//Event Calendar 2.0//EN
METHOD:PUBLISH
X-PUBLISHED-TTL:P3D
REFRESH-INTERVAL:P3D
CALSCALE:GREGORIAN
BEGIN:VEVENT
DTSTART:20190226T193000Z
DTEND:20190226T210000Z
X-MICROSOFT-CDO-ALLDAYEVENT:FALSE
SUMMARY:Lunch with the Lynnwood Chamber
DESCRIPTION:Great presentations\, delicious food and of course really effective networking!
X-ALT-DESC;FMTTYPE=text/html:<font face="arial"><span style="font-size: 14px\;"><b>Great presentations\, delicious food and of course really effective networking!</b></span></font>
LOCATION:Lynnwood Convention Center 3711 196th St. SW Lynnwood\, WA 98036
UID:e.3041.711
SEQUENCE:3
DTSTAMP:20260422T194540Z
URL:https://business.lynnwoodchamber.org/events/details/lunch-with-the-lynnwood-chamber-711
END:VEVENT

END:VCALENDAR
