BEGIN:VCALENDAR
VERSION:2.0
PRODID:-//ChamberMaster//Event Calendar 2.0//EN
METHOD:PUBLISH
X-PUBLISHED-TTL:P3D
REFRESH-INTERVAL:P3D
CALSCALE:GREGORIAN
BEGIN:VEVENT
DTSTART:20190318T183000Z
DTEND:20190318T200000Z
X-MICROSOFT-CDO-ALLDAYEVENT:FALSE
SUMMARY:Lunch with the Lynnwood Chamber
DESCRIPTION:We are pleased to present:\n\nAndrew Ballard\, Marketing Solutions\n\nThe Formula for Breakthrough Growth\n\nBreakthrough doesn't happen by accident. It requires vision\, insight and innovation to take yourself\, your team or business to the next level. During this engaging presentation\, attendees will discover the essential elements to achieving breakthroughs and life changing success.
X-ALT-DESC;FMTTYPE=text/html:<font face="arial"><span style="font-size: 14px\;"><b>We are pleased to present:<br />\nAndrew Ballard\, Marketing Solutions<br />\n<em>The Formula for Breakthrough Growth</em></b></span></font><br />\n<span style="font-size:12px">Breakthrough doesn&#39\;t happen by accident. It requires vision\, insight and innovation to take yourself\, your team or business to the next level. During this engaging presentation\, attendees will discover the essential elements to achieving breakthroughs and life changing success.&nbsp\;</span>
LOCATION:Lynnwood Convention Center 3711 196th St. SW Lynnwood\, WA 98036
UID:e.3041.710
SEQUENCE:3
DTSTAMP:20260422T181614Z
URL:https://business.lynnwoodchamber.org/events/details/lunch-with-the-lynnwood-chamber-710
END:VEVENT

END:VCALENDAR
