BEGIN:VCALENDAR
VERSION:2.0
PRODID:-//ChamberMaster//Event Calendar 2.0//EN
METHOD:PUBLISH
X-PUBLISHED-TTL:P3D
REFRESH-INTERVAL:P3D
CALSCALE:GREGORIAN
BEGIN:VEVENT
DTSTART:20200521T170000Z
DTEND:20200521T183000Z
X-MICROSOFT-CDO-ALLDAYEVENT:FALSE
SUMMARY:Leveraging Your Business' Digital Presence During COVID-19
DESCRIPTION:Presented by Matt Cail\, Executive Manager\, Super Charge Marketing\n\n-- Can your website generate revenue?  \n\n-- How can social media help you advertise and boost engagement?  \n\n-- How to send an email newsletter\, even if you haven't before?\n\n-- Do you look "good" online?\n\n\n\nJoin us for information you can use. There will be opportunities for your questions as well.
X-ALT-DESC;FMTTYPE=text/html:<span style="font-size:12px\;">Presented by Matt Cail\, Executive Manager\, Super Charge Marketing<br />\n-- Can your website generate revenue?&nbsp\;&nbsp\;<br />\n-- How can social media help you advertise and boost engagement?&nbsp\;&nbsp\;<br />\n-- How to send an email newsletter\, even if you haven&#39\;t before?<br />\n-- Do you look &quot\;good&quot\; online?<br />\n<br />\nJoin us for information you can use. There will be opportunities for your questions as well.</span>
LOCATION:It's virtual!
UID:e.3041.935
SEQUENCE:3
DTSTAMP:20260422T001827Z
URL:https://business.lynnwoodchamber.org/events/details/leveraging-your-business-digital-presence-during-covid-19-935
END:VEVENT

END:VCALENDAR
