BEGIN:VCALENDAR
VERSION:2.0
PRODID:-//ChamberMaster//Event Calendar 2.0//EN
METHOD:PUBLISH
X-PUBLISHED-TTL:P3D
REFRESH-INTERVAL:P3D
CALSCALE:GREGORIAN
BEGIN:VEVENT
DTSTART:20190507T173000Z
DTEND:20190507T203000Z
X-MICROSOFT-CDO-ALLDAYEVENT:FALSE
SUMMARY:Launch & Grow Your Business
DESCRIPTION:Launch & Grow Your Business is a Washington State SEAP approved course designed to train participants on starting and running their business. Through seven\, 3-hour sessions participants will learn how to manage\, market and finance their business while creating a solid business plan. This opportunity is designed to be an immersive\, seven-week program and is a paid course.
X-ALT-DESC;FMTTYPE=text/html:Launch &amp\; Grow Your Business is a Washington State SEAP approved course designed to train participants on starting and running their business. Through seven\, 3-hour sessions participants will learn how to manage\, market and finance their business while creating a solid business plan. This opportunity is designed to be an immersive\, seven-week program and is a paid course.
LOCATION:Verity Credit Union 18530 33rd Ave W Lynnwood\, WA 98037
UID:e.3041.846
SEQUENCE:3
DTSTAMP:20260422T155734Z
URL:https://business.lynnwoodchamber.org/events/details/launch-grow-your-business-05-07-2019-846
END:VEVENT

END:VCALENDAR
