BEGIN:VCALENDAR
VERSION:2.0
PRODID:-//ChamberMaster//Event Calendar 2.0//EN
METHOD:PUBLISH
X-PUBLISHED-TTL:P3D
REFRESH-INTERVAL:P3D
CALSCALE:GREGORIAN
BEGIN:VEVENT
DTSTART:20180719T230000Z
DTEND:20180719T233000Z
X-MICROSOFT-CDO-ALLDAYEVENT:FALSE
SUMMARY:KidsPark Ribbon Cutting
DESCRIPTION:Come celebrate the new KidsPark Lynnwood with a Ribbon Cutting!
X-ALT-DESC;FMTTYPE=text/html:Come celebrate the new KidsPark Lynnwood with a Ribbon Cutting!<br />\n&nbsp\;
LOCATION:19220 Alderwood Mall Parkway\, Suite 130 Lynnwood\, WA 98036
UID:e.3041.392
SEQUENCE:3
DTSTAMP:20260423T052907Z
URL:https://business.lynnwoodchamber.org/events/details/kidspark-ribbon-cutting-392
END:VEVENT

END:VCALENDAR
