BEGIN:VCALENDAR
VERSION:2.0
PRODID:-//ChamberMaster//Event Calendar 2.0//EN
METHOD:PUBLISH
X-PUBLISHED-TTL:P3D
REFRESH-INTERVAL:P3D
CALSCALE:GREGORIAN
BEGIN:VEVENT
DTSTART:20180707T170000Z
DTEND:20180707T210000Z
X-MICROSOFT-CDO-ALLDAYEVENT:FALSE
SUMMARY:KidsPark Open House
DESCRIPTION:KidsPark Lynnwood Open House
X-ALT-DESC;FMTTYPE=text/html:KidsPark Lynnwood Open House<br />\n&nbsp\;
LOCATION:19220 Alderwood Mall Parkway\, Suite 130 Lynnwood\, WA 98036
UID:e.3041.387
SEQUENCE:3
DTSTAMP:20260423T064634Z
URL:https://business.lynnwoodchamber.org/events/details/kidspark-open-house-387
END:VEVENT

END:VCALENDAR
