BEGIN:VCALENDAR
VERSION:2.0
PRODID:-//ChamberMaster//Event Calendar 2.0//EN
METHOD:PUBLISH
X-PUBLISHED-TTL:P3D
REFRESH-INTERVAL:P3D
CALSCALE:GREGORIAN
BEGIN:VEVENT
DTSTART:20180726T010000Z
DTEND:20180726T020000Z
X-MICROSOFT-CDO-ALLDAYEVENT:FALSE
SUMMARY:Kids in the Kitchen Baking Party
DESCRIPTION:Each child will receive:\n\n	The Kids Baking Set \n	One batch of cookies that they make with their parent\n	Unforgettable memories and\n	Refreshments!
X-ALT-DESC;FMTTYPE=text/html:Each child will receive:\n<ul>\n	<li>The Kids Baking Set&nbsp\;</li>\n	<li>One batch of cookies that they make with their parent</li>\n	<li>Unforgettable memories and</li>\n	<li>Refreshments!</li>\n</ul>\n
LOCATION:19231 36th Ave. W Lynnwood\, WA 98036
UID:e.3041.384
SEQUENCE:3
DTSTAMP:20260423T052820Z
URL:https://business.lynnwoodchamber.org/events/details/kids-in-the-kitchen-baking-party-384
END:VEVENT

END:VCALENDAR
