BEGIN:VCALENDAR
VERSION:2.0
PRODID:-//ChamberMaster//Event Calendar 2.0//EN
METHOD:PUBLISH
X-PUBLISHED-TTL:P3D
REFRESH-INTERVAL:P3D
CALSCALE:GREGORIAN
BEGIN:VEVENT
DTSTART:20200222T170000Z
DTEND:20200222T224500Z
X-MICROSOFT-CDO-ALLDAYEVENT:FALSE
SUMMARY:Journey Dementia Family Caregiver Conference
DESCRIPTION:The Journey Dementia Family Caregiver Conferences are designed to provide tools and encouragement for family caregivers caring for loved ones with dementia. FREE to family caregivers caring for loved ones with dementia. Pre-registration is required. Visit alzwa.org/conferences for more details and to register online.
X-ALT-DESC;FMTTYPE=text/html:The Journey Dementia Family Caregiver Conferences are designed to provide tools and encouragement for family caregivers caring for loved ones with dementia. FREE to family caregivers caring for loved ones with dementia. Pre-registration is required. Visit alzwa.org/conferences for more details and to register online.
LOCATION:Carl Gipson Senior Center 3025 Lombard Ave Everett\, Washington 98201
UID:e.3041.909
SEQUENCE:3
DTSTAMP:20260422T052336Z
URL:https://business.lynnwoodchamber.org/events/details/journey-dementia-family-caregiver-conference-909
END:VEVENT

END:VCALENDAR
