BEGIN:VCALENDAR
VERSION:2.0
PRODID:-//ChamberMaster//Event Calendar 2.0//EN
METHOD:PUBLISH
X-PUBLISHED-TTL:P3D
REFRESH-INTERVAL:P3D
CALSCALE:GREGORIAN
BEGIN:VEVENT
DTSTART:20181109T010000Z
DTEND:20181109T033000Z
X-MICROSOFT-CDO-ALLDAYEVENT:FALSE
SUMMARY:Joint Business After Hours
DESCRIPTION:Join the Economic Alliance Snohomish County along with the Edmonds\, Lynnwood and Mukilteo Chambers of Commerce for our annual Joint Business After Hours! Make new business connections\, enjoy appetizers and throw your business card in for a chance to win raffle prizes!
X-ALT-DESC;FMTTYPE=text/html:Join the Economic Alliance Snohomish County along with the Edmonds\, Lynnwood and Mukilteo Chambers of Commerce for our annual Joint Business After Hours! Make new business connections\, enjoy appetizers and throw your business card in for a chance to win raffle prizes!
LOCATION:The Everett Elks 2802 Hoyt Ave.\, Suite 100 Everett
UID:e.3041.684
SEQUENCE:3
DTSTAMP:20260422T234908Z
URL:https://business.lynnwoodchamber.org/events/details/joint-business-after-hours-684
END:VEVENT

END:VCALENDAR
