BEGIN:VCALENDAR
VERSION:2.0
PRODID:-//ChamberMaster//Event Calendar 2.0//EN
METHOD:PUBLISH
X-PUBLISHED-TTL:P3D
REFRESH-INTERVAL:P3D
CALSCALE:GREGORIAN
BEGIN:VEVENT
DTSTART:20260425T023000Z
DTEND:20260504T000000Z
X-MICROSOFT-CDO-ALLDAYEVENT:FALSE
SUMMARY:Into the Woods
DESCRIPTION:What happens after "happily ever after?" James Lapine and Stephen Sondheim take everyone's favorite storybook characters and bring them together for a timeless\, yet relevant\, piece. The Tony Award-winning book and score are both enchanting and touching. The story follows a Baker and his wife\, who wish to have a child\; Cinderella\, who wishes to attend the King's Festival\; and Jack\, who wishes his cow would give milk. When the Baker and his wife learn that they cannot have a child because of a Witch's curse\, the two set off on a journey to break the curse. Everyone's wish is granted\, but the consequences of their actions return to haunt them later with disastrous results. Into the Woods is rated PG. Please go to ballyhootheatre.org for a parent guide. Performances will be held at The Black Box Theatre at Edmonds College\, April 24-May 3\, 2026. Please do NOT follow your GPS to Ballyhoo Theatre\; that is a mailing address only.
X-ALT-DESC;FMTTYPE=text/html:What happens after &quot\;happily ever after?&quot\; James Lapine and Stephen Sondheim take everyone&#39\;s favorite storybook characters and bring them together for a timeless\, yet relevant\, piece. The Tony Award-winning book and score are both enchanting and touching. The story follows a Baker and his wife\, who wish to have a child\; Cinderella\, who wishes to attend the King&#39\;s Festival\; and Jack\, who wishes his cow would give milk. When the Baker and his wife learn that they cannot have a child because of a Witch&#39\;s curse\, the two set off on a journey to break the curse. Everyone&#39\;s wish is granted\, but the consequences of their actions return to haunt them later with disastrous results. Into the Woods is rated PG. Please go to ballyhootheatre.org for a parent guide. Performances will be held at The Black Box Theatre at Edmonds College\, April 24-May 3\, 2026. Please do NOT follow your GPS to Ballyhoo Theatre\; that is a mailing address only.
LOCATION:Black Box Theatre at Edmonds College\, 20310 68th Ave W\, Lynnwood\, WA 98036
UID:e.3041.1615
SEQUENCE:3
DTSTAMP:20260421T215338Z
URL:https://business.lynnwoodchamber.org/events/details/into-the-woods-1615
END:VEVENT

END:VCALENDAR
