BEGIN:VCALENDAR
VERSION:2.0
PRODID:-//ChamberMaster//Event Calendar 2.0//EN
METHOD:PUBLISH
X-PUBLISHED-TTL:P3D
REFRESH-INTERVAL:P3D
CALSCALE:GREGORIAN
BEGIN:VEVENT
DTSTART:20200910T180000Z
DTEND:20200910T190000Z
X-MICROSOFT-CDO-ALLDAYEVENT:FALSE
SUMMARY:Ideal Wellness Ribbon Cutting
DESCRIPTION:Join us in welcoming Ideal Wellness to Lynnwood!
X-ALT-DESC;FMTTYPE=text/html:Join us in welcoming Ideal Wellness to Lynnwood!
LOCATION:19723 Hwy. 99\, Ste C Lynnwood 98036
UID:e.3041.941
SEQUENCE:3
DTSTAMP:20260421T192350Z
URL:https://business.lynnwoodchamber.org/events/details/ideal-wellness-ribbon-cutting-941
END:VEVENT

END:VCALENDAR
