BEGIN:VCALENDAR
VERSION:2.0
PRODID:-//ChamberMaster//Event Calendar 2.0//EN
METHOD:PUBLISH
X-PUBLISHED-TTL:P3D
REFRESH-INTERVAL:P3D
CALSCALE:GREGORIAN
BEGIN:VEVENT
DTSTART:20190306T210000Z
DTEND:20190307T000000Z
X-MICROSOFT-CDO-ALLDAYEVENT:FALSE
SUMMARY:I'm Not a Project Manager\, But...
DESCRIPTION:Projects get planned and started all the time. This class is about a few indispensible project management tools which can help your team plan\, manage and execute work.
X-ALT-DESC;FMTTYPE=text/html:Projects get planned and started all the time. This class is about a few indispensible project management tools which can help your team plan\, manage and execute work.
LOCATION:Edmonds Community College Snohomish Hall 337 20000 68th Ave. W Lynnwood\, WA 98036
UID:e.3041.697
SEQUENCE:3
DTSTAMP:20260422T181308Z
URL:https://business.lynnwoodchamber.org/events/details/i-m-not-a-project-manager-but-697
END:VEVENT

END:VCALENDAR
