BEGIN:VCALENDAR
VERSION:2.0
PRODID:-//ChamberMaster//Event Calendar 2.0//EN
METHOD:PUBLISH
X-PUBLISHED-TTL:P3D
REFRESH-INTERVAL:P3D
CALSCALE:GREGORIAN
BEGIN:VEVENT
DTSTART:20181004T183000Z
DTEND:20181004T200000Z
X-MICROSOFT-CDO-ALLDAYEVENT:FALSE
SUMMARY:Hope Within Luncheon
DESCRIPTION:13th Annual Hope Within Luncheon\n\nDomestic Violence Services of Snohomish County
X-ALT-DESC;FMTTYPE=text/html:13th Annual Hope Within Luncheon<br />\nDomestic Violence Services of Snohomish County
LOCATION:Angel of the Winds Arena 2000 Hewitt Avenue Everett\, WA 98201
UID:e.3041.664
SEQUENCE:3
DTSTAMP:20260423T011430Z
URL:https://business.lynnwoodchamber.org/events/details/hope-within-luncheon-664
END:VEVENT

END:VCALENDAR
