BEGIN:VCALENDAR
VERSION:2.0
PRODID:-//ChamberMaster//Event Calendar 2.0//EN
METHOD:PUBLISH
X-PUBLISHED-TTL:P3D
REFRESH-INTERVAL:P3D
CALSCALE:GREGORIAN
BEGIN:VEVENT
DTSTART:20191213T190000Z
DTEND:20191213T220000Z
X-MICROSOFT-CDO-ALLDAYEVENT:FALSE
SUMMARY:HomeStreet Bank Customer Appreciation Event
DESCRIPTION:As a token of our appreciation\, the HomeStreet Lynnwood Branch would like to invite you to join us for a Holiday Party.\n\n\n\nWe will be serving light refreshments and dessert. Live music will be provided by our own Richard Vitzum on violin\, viola and keyboard.
X-ALT-DESC;FMTTYPE=text/html:As a token of our appreciation\, the HomeStreet Lynnwood Branch would like to invite you to join us for a Holiday Party.<br />\n<br />\nWe will be serving light refreshments and dessert. Live music will be provided by our own Richard Vitzum on violin\, viola and keyboard.
LOCATION:19405 44th Ave W. Lynnwood
UID:e.3041.906
SEQUENCE:3
DTSTAMP:20260422T064118Z
URL:https://business.lynnwoodchamber.org/events/details/homestreet-bank-customer-appreciation-event-906
END:VEVENT

END:VCALENDAR
