BEGIN:VCALENDAR
VERSION:2.0
PRODID:-//ChamberMaster//Event Calendar 2.0//EN
METHOD:PUBLISH
X-PUBLISHED-TTL:P3D
REFRESH-INTERVAL:P3D
CALSCALE:GREGORIAN
BEGIN:VEVENT
DTSTART:20210206T180000Z
DTEND:20210206T190000Z
X-MICROSOFT-CDO-ALLDAYEVENT:FALSE
SUMMARY:Homebuyer Education Zoom Class
DESCRIPTION:Garrett Geiger of Veritas Funding and Isatou Ceesay of Century 21 conduct a free and casual zoom class about home buying and mortgage financing with time for questions and discussion. Join us from the comfort of your couch!
X-ALT-DESC;FMTTYPE=text/html:Garrett Geiger of Veritas Funding and Isatou Ceesay of Century 21 conduct a free and casual zoom class about home buying and mortgage financing with time for questions and discussion. Join us from the comfort of your couch!
LOCATION:Register so I can send you the Zoom link\, here: https://zoom.us/meeting/register/tJItdu2qqDMiH9ZL_8pNKEocoRHuWvooA74Q
UID:e.3041.962
SEQUENCE:3
DTSTAMP:20260421T125743Z
URL:https://business.lynnwoodchamber.org/events/details/homebuyer-education-zoom-class-962
END:VEVENT

END:VCALENDAR
