BEGIN:VCALENDAR
VERSION:2.0
PRODID:-//ChamberMaster//Event Calendar 2.0//EN
METHOD:PUBLISH
X-PUBLISHED-TTL:P3D
REFRESH-INTERVAL:P3D
CALSCALE:GREGORIAN
BEGIN:VEVENT
DTSTART:20180823T223000Z
DTEND:20180824T013000Z
X-MICROSOFT-CDO-ALLDAYEVENT:FALSE
SUMMARY:Homage Senior Services Open House and Ribbon Cutting
DESCRIPTION:Please join Homage Senior Services in celebration of our move to the Lynnwood community.
X-ALT-DESC;FMTTYPE=text/html:Please join Homage Senior Services in celebration of our move to the Lynnwood community.
LOCATION:5026 196th St. SW Lynnwood\, WA 98036
UID:e.3041.405
SEQUENCE:3
DTSTAMP:20260423T041155Z
URL:https://business.lynnwoodchamber.org/events/details/homage-senior-services-open-house-and-ribbon-cutting-405
END:VEVENT

END:VCALENDAR
