BEGIN:VCALENDAR
VERSION:2.0
PRODID:-//ChamberMaster//Event Calendar 2.0//EN
METHOD:PUBLISH
X-PUBLISHED-TTL:P3D
REFRESH-INTERVAL:P3D
CALSCALE:GREGORIAN
BEGIN:VEVENT
DTSTART:20211215T200000Z
DTEND:20211215T210000Z
X-MICROSOFT-CDO-ALLDAYEVENT:FALSE
SUMMARY:Holly-Jolly Good Time!
DESCRIPTION:Join us for frivolity and holiday cheer!
X-ALT-DESC;FMTTYPE=text/html:Join us for frivolity and holiday cheer!
LOCATION:It's Virtual!
UID:e.3041.996
SEQUENCE:3
DTSTAMP:20260420T212033Z
URL:https://business.lynnwoodchamber.org/events/details/holly-jolly-good-time-996
END:VEVENT

END:VCALENDAR
