BEGIN:VCALENDAR
VERSION:2.0
PRODID:-//ChamberMaster//Event Calendar 2.0//EN
METHOD:PUBLISH
X-PUBLISHED-TTL:P3D
REFRESH-INTERVAL:P3D
CALSCALE:GREGORIAN
BEGIN:VEVENT
DTSTART;VALUE=DATE:20190413
DTEND;VALUE=DATE:20190414
TRANSP:TRANSPARENT
X-MICROSOFT-CDO-ALLDAYEVENT:TRUE
SUMMARY:Historic Flight - Educational Summit and Gala
DESCRIPTION:Educational Summit & Gala\n\nHelp our local middle school students soar to higher academic success with\n\nbeyond-the-school-day Learning Labs in Snohomish County
X-ALT-DESC;FMTTYPE=text/html:Educational Summit &amp\; Gala<br />\nHelp our local middle school students soar to higher academic success with<br />\nbeyond-the-school-day Learning Labs in Snohomish County
LOCATION:Historic Flight 10719 Bernie Webber Drive Mukilteo\, WA 98275
UID:e.3041.840
SEQUENCE:3
DTSTAMP:20260422T165500Z
URL:https://business.lynnwoodchamber.org/events/details/historic-flight-educational-summit-and-gala-840
END:VEVENT

END:VCALENDAR
