BEGIN:VCALENDAR
VERSION:2.0
PRODID:-//ChamberMaster//Event Calendar 2.0//EN
METHOD:PUBLISH
X-PUBLISHED-TTL:P3D
REFRESH-INTERVAL:P3D
CALSCALE:GREGORIAN
BEGIN:VEVENT
DTSTART:20250514T014500Z
DTEND:20250514T040000Z
X-MICROSOFT-CDO-ALLDAYEVENT:FALSE
SUMMARY:High-School and youth Soccer Tryouts for Gala FC
DESCRIPTION:Dream big\, play hard\, and find your soccer family at Gala FC! We're inviting all dedicated players to our final tryout for the 2025/26 season on May 13 at Tambark Creek Park. As a nonprofit club\, Gala FC is committed to supporting minority and underserved communities by offering high-quality training\, strong mentorship\, and real opportunities to grow on and off the field. Whether you're just starting out or aiming to play at a higher level\, we want to see your talent! ? Youth & High School Tryouts   Final Day ?? May 13 ? 7:00 PM (Please arrive by 6:45 PM for check-in) ?? Birth years 2007 2011\,2010-2020 Let's make something incredible happen come show us what you've got!
X-ALT-DESC;FMTTYPE=text/html:Dream big\, play hard\, and find your soccer family at Gala FC! We&rsquo\;re inviting all dedicated players to our final tryout for the 2025/26 season on May 13 at Tambark Creek Park. As a nonprofit club\, Gala FC is committed to supporting minority and underserved communities by offering high-quality training\, strong mentorship\, and real opportunities to grow on and off the field. Whether you&#39\;re just starting out or aiming to play at a higher level\, we want to see your talent! ? Youth &amp\; High School Tryouts &ndash\; Final Day ?? May 13 ? 7:00 PM (Please arrive by 6:45 PM for check-in) ?? Birth years 2007&ndash\;2011\,2010-2020 Let&rsquo\;s make something incredible happen&mdash\;come show us what you&rsquo\;ve got!
LOCATION:Tambark Creek Park
UID:e.3041.1561
SEQUENCE:3
DTSTAMP:20260421T111452Z
URL:https://business.lynnwoodchamber.org/events/details/high-school-and-youth-soccer-tryouts-for-gala-fc-1561
END:VEVENT

END:VCALENDAR
