BEGIN:VCALENDAR
VERSION:2.0
PRODID:-//ChamberMaster//Event Calendar 2.0//EN
METHOD:PUBLISH
X-PUBLISHED-TTL:P3D
REFRESH-INTERVAL:P3D
CALSCALE:GREGORIAN
BEGIN:VEVENT
DTSTART:20240425T003000Z
DTEND:20240425T020000Z
X-MICROSOFT-CDO-ALLDAYEVENT:FALSE
SUMMARY:HAPPY HOUR at Dave and Busters
DESCRIPTION:Be sure to register early for this fun Lynnwood Chamber Happy Hour at Dave & Buster's\, including a complimentary signature drink\, appy's\, and pre-loaded game card with unlimited video game play! This fun event will fill up fast\, and attendance is limited.
X-ALT-DESC;FMTTYPE=text/html:<span style="font-size:14px\;"><span style="font-family:arial\;"><span style="color: rgb(5\, 5\, 5)\; white-space-collapse: preserve\;">Be sure to register early for this fun Lynnwood Chamber Happy Hour at Dave &amp\; Buster&#39\;s\, including a complimentary signature drink\, appy&#39\;s\, and pre-loaded game card with unlimited video game play! This fun event will fill up fast\, and attendance is limited. </span></span></span>
LOCATION:Dave and Busters 18606 Alderwood Mall Pkwy Lynnwood
UID:e.3041.1245
SEQUENCE:3
DTSTAMP:20260421T112712Z
URL:https://business.lynnwoodchamber.org/events/details/happy-hour-at-dave-and-busters-1245
END:VEVENT

END:VCALENDAR
