BEGIN:VCALENDAR
VERSION:2.0
PRODID:-//ChamberMaster//Event Calendar 2.0//EN
METHOD:PUBLISH
X-PUBLISHED-TTL:P3D
REFRESH-INTERVAL:P3D
CALSCALE:GREGORIAN
BEGIN:VEVENT
DTSTART:20290315T003000Z
DTEND:20290315T020000Z
X-MICROSOFT-CDO-ALLDAYEVENT:FALSE
SUMMARY:HAPPY HOUR
DESCRIPTION:FREE Event for Lynnwood Chamber Members & their Guests - please register in advance.
X-ALT-DESC;FMTTYPE=text/html:FREE Event for Lynnwood Chamber Members &amp\; their Guests - please register in advance.
LOCATION:
UID:e.3041.1467
SEQUENCE:3
DTSTAMP:20260421T212344Z
URL:https://business.lynnwoodchamber.org/events/details/happy-hour-03-14-2029-1467
END:VEVENT

END:VCALENDAR
