BEGIN:VCALENDAR
VERSION:2.0
PRODID:-//ChamberMaster//Event Calendar 2.0//EN
METHOD:PUBLISH
X-PUBLISHED-TTL:P3D
REFRESH-INTERVAL:P3D
CALSCALE:GREGORIAN
BEGIN:VEVENT
DTSTART:20191030T180000Z
DTEND:20191101T000000Z
X-MICROSOFT-CDO-ALLDAYEVENT:FALSE
SUMMARY:Halloween at Mr. Kleen 76 Station
DESCRIPTION:Visit our Spooky Tent and our Witch & Wizard will give you candy and coupons and take your photo. We also have free cookies and hot chocolate! Come in costume for added treats! We are joining forces with the Northwest G.I. Foundation.
X-ALT-DESC;FMTTYPE=text/html:Visit our Spooky Tent and our Witch &amp\; Wizard will give you candy and coupons and take your photo. We also have free cookies and hot chocolate! Come in costume for added treats! We are joining forces with the Northwest G.I. Foundation.
LOCATION:19611 Alderwood Mall Pkwy\, Lynnwood\, WA 98036
UID:e.3041.895
SEQUENCE:3
DTSTAMP:20260422T091824Z
URL:https://business.lynnwoodchamber.org/events/details/halloween-at-mr-kleen-76-station-895
END:VEVENT

END:VCALENDAR
