BEGIN:VCALENDAR
VERSION:2.0
PRODID:-//ChamberMaster//Event Calendar 2.0//EN
METHOD:PUBLISH
X-PUBLISHED-TTL:P3D
REFRESH-INTERVAL:P3D
CALSCALE:GREGORIAN
BEGIN:VEVENT
DTSTART:20201016T190000Z
DTEND:20201016T194500Z
X-MICROSOFT-CDO-ALLDAYEVENT:FALSE
SUMMARY:Habitat for Humanity Virtual Fundraiser
DESCRIPTION:We've rescheduled and gone virtual! Come help Habitat for Humanity build affordable homes in Snohomish County. This 30 minute event will explore everything Habitat does\, from providing 600 volunteer opportunities to recycling 500 tons of material every year. Join us as we create a world where everyone has a decent place to live!
X-ALT-DESC;FMTTYPE=text/html:We&#39\;ve rescheduled and gone virtual! Come help Habitat for Humanity build affordable homes in Snohomish County. This 30 minute event will explore everything Habitat does\, from providing 600 volunteer opportunities to recycling 500 tons of material every year. Join us as we create a world where everyone has a decent place to live!
LOCATION:https://habitatsnohomish.org/RaiseTheRoof
UID:e.3041.940
SEQUENCE:3
DTSTAMP:20260421T180718Z
URL:https://business.lynnwoodchamber.org/events/details/habitat-for-humanity-virtual-fundraiser-940
END:VEVENT

END:VCALENDAR
