BEGIN:VCALENDAR
VERSION:2.0
PRODID:-//ChamberMaster//Event Calendar 2.0//EN
METHOD:PUBLISH
X-PUBLISHED-TTL:P3D
REFRESH-INTERVAL:P3D
CALSCALE:GREGORIAN
BEGIN:VEVENT
DTSTART:20180707T230000Z
DTEND:20180708T065500Z
X-MICROSOFT-CDO-ALLDAYEVENT:FALSE
SUMMARY:Grand Opening of KidsPark Lynnwood
DESCRIPTION:Grand Opening of KidsPark Lynnwood
X-ALT-DESC;FMTTYPE=text/html:Grand Opening of KidsPark Lynnwood<br />\n&nbsp\;
LOCATION:19220 Alderwood Mall Parkway\, Suite 130 Lynnwood\, WA 98036
UID:e.3041.389
SEQUENCE:3
DTSTAMP:20260423T065102Z
URL:https://business.lynnwoodchamber.org/events/details/grand-opening-of-kidspark-lynnwood-389
END:VEVENT

END:VCALENDAR
